BEGIN:VCALENDAR
VERSION:2.0
PRODID:-//Squarespace Inc/Squarespace 6//v6//EN
BEGIN:VEVENT
UID:5b45fe312b6a28c31c6a6737@squarespace.com
DTSTAMP:20181010T122349Z
DTSTART:20181025T073000Z
DTEND:20181025T100000Z
SUMMARY:Fab Ladies Night Out (click to view all details)
GEO:-37.83467;144.885345
LOCATION:Two Birds Brewing\, 136 Hall Street\, Spotswood\, VIC\, 3015\, Aus
 tralia
END:VEVENT
END:VCALENDAR
